BEGIN:VCALENDAR
VERSION:2.0
PRODID:-//Lakeside Bowling Centre - ECPv6.15.20//NONSGML v1.0//EN
CALSCALE:GREGORIAN
METHOD:PUBLISH
X-ORIGINAL-URL:https://lakeside-bowling.ca
X-WR-CALDESC:Events for Lakeside Bowling Centre
REFRESH-INTERVAL;VALUE=DURATION:PT1H
X-Robots-Tag:noindex
X-PUBLISHED-TTL:PT1H
BEGIN:VTIMEZONE
TZID:America/Los_Angeles
BEGIN:DAYLIGHT
TZOFFSETFROM:-0800
TZOFFSETTO:-0700
TZNAME:PDT
DTSTART:20250309T100000
END:DAYLIGHT
BEGIN:STANDARD
TZOFFSETFROM:-0700
TZOFFSETTO:-0800
TZNAME:PST
DTSTART:20251102T090000
END:STANDARD
BEGIN:DAYLIGHT
TZOFFSETFROM:-0800
TZOFFSETTO:-0700
TZNAME:PDT
DTSTART:20260308T100000
END:DAYLIGHT
BEGIN:STANDARD
TZOFFSETFROM:-0700
TZOFFSETTO:-0800
TZNAME:PST
DTSTART:20261101T090000
END:STANDARD
BEGIN:DAYLIGHT
TZOFFSETFROM:-0800
TZOFFSETTO:-0700
TZNAME:PDT
DTSTART:20270314T100000
END:DAYLIGHT
BEGIN:STANDARD
TZOFFSETFROM:-0700
TZOFFSETTO:-0800
TZNAME:PST
DTSTART:20271107T090000
END:STANDARD
END:VTIMEZONE
BEGIN:VEVENT
DTSTART;TZID=America/Los_Angeles:20260503T090000
DTEND;TZID=America/Los_Angeles:20260503T170000
DTSTAMP:20260420T184630
CREATED:20250908T214415Z
LAST-MODIFIED:20250908T214415Z
UID:4495-1777798800-1777827600@lakeside-bowling.ca
SUMMARY:12 Game Open Tournament
DESCRIPTION:Sunday May 3rd\, 2026 – 12 Game Open Tournament \n$140 Engry per bowler\nOptional side pots $20 \n9:00 AM start \n$500 Guaranteed first place in both scratch & handicap \nCall 250-832-3946 or email henri@lakeside-bowling to register
URL:https://lakeside-bowling.ca/event/12-game-open-tournament/
LOCATION:Lakeside bowling Center\, 1881 - 9th Ave NE\, Salmon Arm\, BC\, V1E 2L2\, Canada
END:VEVENT
END:VCALENDAR