BEGIN:VCALENDAR
VERSION:2.0
PRODID:-//Lakeside Bowling Centre - ECPv6.15.20//NONSGML v1.0//EN
CALSCALE:GREGORIAN
METHOD:PUBLISH
X-WR-CALNAME:Lakeside Bowling Centre
X-ORIGINAL-URL:https://lakeside-bowling.ca
X-WR-CALDESC:Events for Lakeside Bowling Centre
REFRESH-INTERVAL;VALUE=DURATION:PT1H
X-Robots-Tag:noindex
X-PUBLISHED-TTL:PT1H
BEGIN:VTIMEZONE
TZID:America/Los_Angeles
BEGIN:DAYLIGHT
TZOFFSETFROM:-0800
TZOFFSETTO:-0700
TZNAME:PDT
DTSTART:20230312T100000
END:DAYLIGHT
BEGIN:STANDARD
TZOFFSETFROM:-0700
TZOFFSETTO:-0800
TZNAME:PST
DTSTART:20231105T090000
END:STANDARD
BEGIN:DAYLIGHT
TZOFFSETFROM:-0800
TZOFFSETTO:-0700
TZNAME:PDT
DTSTART:20240310T100000
END:DAYLIGHT
BEGIN:STANDARD
TZOFFSETFROM:-0700
TZOFFSETTO:-0800
TZNAME:PST
DTSTART:20241103T090000
END:STANDARD
BEGIN:DAYLIGHT
TZOFFSETFROM:-0800
TZOFFSETTO:-0700
TZNAME:PDT
DTSTART:20250309T100000
END:DAYLIGHT
BEGIN:STANDARD
TZOFFSETFROM:-0700
TZOFFSETTO:-0800
TZNAME:PST
DTSTART:20251102T090000
END:STANDARD
BEGIN:DAYLIGHT
TZOFFSETFROM:-0800
TZOFFSETTO:-0700
TZNAME:PDT
DTSTART:20260308T100000
END:DAYLIGHT
BEGIN:STANDARD
TZOFFSETFROM:-0700
TZOFFSETTO:-0800
TZNAME:PST
DTSTART:20261101T090000
END:STANDARD
BEGIN:DAYLIGHT
TZOFFSETFROM:-0800
TZOFFSETTO:-0700
TZNAME:PDT
DTSTART:20270314T100000
END:DAYLIGHT
BEGIN:STANDARD
TZOFFSETFROM:-0700
TZOFFSETTO:-0800
TZNAME:PST
DTSTART:20271107T090000
END:STANDARD
END:VTIMEZONE
BEGIN:VEVENT
DTSTART;TZID=America/Los_Angeles:20260215T100000
DTEND;TZID=America/Los_Angeles:20260215T160000
DTSTAMP:20260420T151559
CREATED:20250908T214638Z
LAST-MODIFIED:20250908T214638Z
UID:4497-1771149600-1771171200@lakeside-bowling.ca
SUMMARY:Valentine's Doubles No Tap 6 Game Tournment
DESCRIPTION:Valentine’s Doubles No Tap 6 Game Tournment \nFebruary 15th\, 2026 – 10:00 am \nPoints over average \n$60 entry per bowler \nPayouts top 4 (based on 24 teams) \nOptional side pots \nCall 250-832-3946 or email henri@lakeside-bowling.ca to enter
URL:https://lakeside-bowling.ca/event/valentines-doubles-no-tap-6-game-tournment/
LOCATION:Lakeside bowling Center\, 1881 - 9th Ave NE\, Salmon Arm\, BC\, V1E 2L2\, Canada
END:VEVENT
BEGIN:VEVENT
DTSTART;TZID=America/Los_Angeles:20251102T100000
DTEND;TZID=America/Los_Angeles:20251102T160000
DTSTAMP:20260420T151559
CREATED:20250908T214932Z
LAST-MODIFIED:20250908T215422Z
UID:4501-1762077600-1762099200@lakeside-bowling.ca
SUMMARY:8th Annual Betty Boop 8 Game Tournment
DESCRIPTION:November 2nd\, 2025 \n10 AM start \n$120 entry \nOption side pots $10 each \nPayouts for scratch and handicap \n 
URL:https://lakeside-bowling.ca/event/8th-annual-betty-boop-8-game-tournment/
LOCATION:Lakeside bowling Center\, 1881 - 9th Ave NE\, Salmon Arm\, BC\, V1E 2L2\, Canada
END:VEVENT
BEGIN:VEVENT
DTSTART;TZID=America/Los_Angeles:20251026T100000
DTEND;TZID=America/Los_Angeles:20251026T160000
DTSTAMP:20260420T151559
CREATED:20250908T214815Z
LAST-MODIFIED:20250908T214815Z
UID:4499-1761472800-1761494400@lakeside-bowling.ca
SUMMARY:2nd Annual -Youth Junior/Senior 8 Game Cash Tournment
DESCRIPTION:2nd Annual -Youth Junior/Senior 8 Game Cash Tournment \nOctober 26th\, 2025 \n10 AM Start \n$100 entry with side pots \nScratch and handicap payouts \nCall 250-832-3946 or email henri@lakeside-bowling.ca to register
URL:https://lakeside-bowling.ca/event/2nd-annual-youth-junior-senior-8-game-cash-tournment/
LOCATION:Lakeside bowling Center\, 1881 - 9th Ave NE\, Salmon Arm\, BC\, V1E 2L2\, Canada
END:VEVENT
BEGIN:VEVENT
DTSTART;VALUE=DATE:20241110
DTEND;VALUE=DATE:20241111
DTSTAMP:20260420T151559
CREATED:20240930T162134Z
LAST-MODIFIED:20240930T162134Z
UID:4447-1731196800-1731283199@lakeside-bowling.ca
SUMMARY:YBC Express Singles Provincial Finals
DESCRIPTION:Time TBD
URL:https://lakeside-bowling.ca/event/ybc-express-singles-provincial-finals/
LOCATION:Lakeside bowling Center\, 1881 - 9th Ave NE\, Salmon Arm\, BC\, V1E 2L2\, Canada
END:VEVENT
BEGIN:VEVENT
DTSTART;TZID=America/Los_Angeles:20241103T100000
DTEND;TZID=America/Los_Angeles:20241103T160000
DTSTAMP:20260420T151559
CREATED:20240930T161946Z
LAST-MODIFIED:20240930T162157Z
UID:4445-1730628000-1730649600@lakeside-bowling.ca
SUMMARY:Betty Boop Ladies 8 Game
DESCRIPTION:Entry fee $120 \nStart time 10am \nPayouts for scratch and handicap \nOptional side pots $10 each \nScratch and POA \nPrize money determined by # of entries
URL:https://lakeside-bowling.ca/event/betty-boop-ladies-8-game/
LOCATION:Lakeside bowling Center\, 1881 - 9th Ave NE\, Salmon Arm\, BC\, V1E 2L2\, Canada
END:VEVENT
BEGIN:VEVENT
DTSTART;VALUE=DATE:20241027
DTEND;VALUE=DATE:20241028
DTSTAMP:20260420T151559
CREATED:20240930T161645Z
LAST-MODIFIED:20240930T161645Z
UID:4443-1729987200-1730073599@lakeside-bowling.ca
SUMMARY:YBC Junior/Senior 8 Game Tournament
DESCRIPTION:
URL:https://lakeside-bowling.ca/event/ybc-junior-senior-8-game-tournament/
LOCATION:BC
END:VEVENT
BEGIN:VEVENT
DTSTART;TZID=America/Los_Angeles:20241025T100000
DTEND;TZID=America/Los_Angeles:20241025T120000
DTSTAMP:20260420T151559
CREATED:20240930T161557Z
LAST-MODIFIED:20240930T161557Z
UID:4441-1729850400-1729857600@lakeside-bowling.ca
SUMMARY:YBC Travel Club
DESCRIPTION:10am Start
URL:https://lakeside-bowling.ca/event/ybc-travel-club/
LOCATION:Lakeside bowling Center\, 1881 - 9th Ave NE\, Salmon Arm\, BC\, V1E 2L2\, Canada
END:VEVENT
BEGIN:VEVENT
DTSTART;TZID=America/Los_Angeles:20241018T100000
DTEND;TZID=America/Los_Angeles:20241018T120000
DTSTAMP:20260420T151559
CREATED:20240930T161501Z
LAST-MODIFIED:20240930T161510Z
UID:4438-1729245600-1729252800@lakeside-bowling.ca
SUMMARY:55+ Travel Club
DESCRIPTION:10am Start
URL:https://lakeside-bowling.ca/event/55-travel-club/
LOCATION:Lakeside bowling Center\, 1881 - 9th Ave NE\, Salmon Arm\, BC\, V1E 2L2\, Canada
END:VEVENT
BEGIN:VEVENT
DTSTART;TZID=America/Los_Angeles:20241007T190000
DTEND;TZID=America/Los_Angeles:20241007T210000
DTSTAMP:20260420T151559
CREATED:20240930T161316Z
LAST-MODIFIED:20240930T161329Z
UID:4435-1728327600-1728334800@lakeside-bowling.ca
SUMMARY:Bowling Club Meeting
DESCRIPTION:Bowling Club meeting at 7pm. In the meeting room at the lanes.
URL:https://lakeside-bowling.ca/event/bowling-club-meeting/
LOCATION:Lakeside bowling Center\, 1881 - 9th Ave NE\, Salmon Arm\, BC\, V1E 2L2\, Canada
ORGANIZER;CN="Henri Gummesen":MAILTO:henri@lakesidebowling.ca
END:VEVENT
END:VCALENDAR